BEGIN:VCALENDAR
VERSION:2.0
PRODID:-//talent.kruzhok.org//Event//
BEGIN:VEVENT
SUMMARY:Применение беспилотников. Очный эта
 п ТехноГТО\, Белгород
DTSTART;VALUE=DATE-TIME:20251030T110000Z
DTEND;VALUE=DATE-TIME:20251030T130000Z
DTSTAMP;VALUE=DATE-TIME:20260422T103730Z
UID:20260422T133730-9973@talent.kruzhok.org
ORGANIZER;CN="Булгаков Сергей Борисович":MAILTO:bul
 gakov_s_b@mail.ru
END:VEVENT
END:VCALENDAR
