BEGIN:VCALENDAR
VERSION:2.0
PRODID:-//talent.kruzhok.org//Event//
BEGIN:VEVENT
SUMMARY:Электроника дома. Очный этап ТехноГ
 ТО\, Белгород
DTSTART;VALUE=DATE-TIME:20251029T070000Z
DTEND;VALUE=DATE-TIME:20251029T090000Z
DTSTAMP;VALUE=DATE-TIME:20260422T101719Z
UID:20260422T131719-9971@talent.kruzhok.org
ORGANIZER;CN="Булгаков Сергей Борисович":MAILTO:bul
 gakov_s_b@mail.ru
END:VEVENT
END:VCALENDAR
