BEGIN:VCALENDAR
VERSION:2.0
PRODID:-//talent.kruzhok.org//Event//
BEGIN:VEVENT
SUMMARY:Кибербезопасность. Очный этап Техно
 ГТО\, Белгород
DTSTART;VALUE=DATE-TIME:20251027T070000Z
DTEND;VALUE=DATE-TIME:20251027T090000Z
DTSTAMP;VALUE=DATE-TIME:20260422T090514Z
UID:20260422T120514-9967@talent.kruzhok.org
ORGANIZER;CN="Булгаков Сергей Борисович":MAILTO:bul
 gakov_s_b@mail.ru
END:VEVENT
END:VCALENDAR
