BEGIN:VCALENDAR
VERSION:2.0
PRODID:-//talent.kruzhok.org//Event//
BEGIN:VEVENT
SUMMARY:Курс повышения квалификации «Вовле
 чение школьников в техническое творчест
 во и технологическое образование с прим
 енением видеоигр платформы "Берлога"»
DTSTART;VALUE=DATE-TIME:20251001T060000Z
DTEND;VALUE=DATE-TIME:20251003T150000Z
DTSTAMP;VALUE=DATE-TIME:20260426T001134Z
UID:20260426T031134-9680@talent.kruzhok.org
ORGANIZER;CN="Прудковская Ольга Марковна":MAILTO:p
 rudkovskaya@kruzhok.org
END:VEVENT
END:VCALENDAR
