BEGIN:VCALENDAR
VERSION:2.0
PRODID:-//talent.kruzhok.org//Event//
BEGIN:VEVENT
SUMMARY:Курсы повышения квалификации\, 36 час
 ов. Тема: «Инновационные формы и методы в
 ключения школьников и студентов в научн
 о-техническое творчество»
DTSTART;VALUE=DATE-TIME:20250915T120000Z
DTEND;VALUE=DATE-TIME:20251030T205900Z
DTSTAMP;VALUE=DATE-TIME:20260425T225447Z
UID:20260426T015447-9025@talent.kruzhok.org
ORGANIZER;CN="Прудковская Ольга Марковна":MAILTO:p
 rudkovskaya@kruzhok.org
END:VEVENT
END:VCALENDAR
