BEGIN:VCALENDAR
VERSION:2.0
PRODID:-//talent.kruzhok.org//Event//
BEGIN:VEVENT
SUMMARY:Всероссийский конкурс 3D/VR-проектов V
 R-метка на карте России 2025
DTSTART;VALUE=DATE-TIME:20250820T210000Z
DTEND;VALUE=DATE-TIME:20251129T205959Z
DTSTAMP;VALUE=DATE-TIME:20260425T212124Z
UID:20260426T002124-9021@talent.kruzhok.org
END:VEVENT
END:VCALENDAR
