BEGIN:VCALENDAR
VERSION:2.0
PRODID:-//talent.kruzhok.org//Event//
BEGIN:VEVENT
SUMMARY:Культура на чердаке: оживляя наслед
 ие Русского Севера
DTSTART;VALUE=DATE-TIME:20251101T040000Z
DTEND;VALUE=DATE-TIME:20251111T040000Z
DTSTAMP;VALUE=DATE-TIME:20260425T212123Z
UID:20260426T002123-8851@talent.kruzhok.org
ORGANIZER;CN="Рачинская Мария Станиславовна":MA
 ILTO:openrussia@hse.ru
END:VEVENT
END:VCALENDAR
