BEGIN:VCALENDAR
VERSION:2.0
PRODID:-//talent.kruzhok.org//Event//
BEGIN:VEVENT
SUMMARY:Игры кочевников: песнь песка и пиксе
 ля
DTSTART;VALUE=DATE-TIME:20251109T210000Z
DTEND;VALUE=DATE-TIME:20251120T205900Z
DTSTAMP;VALUE=DATE-TIME:20260425T224025Z
UID:20260426T014025-8825@talent.kruzhok.org
ORGANIZER;CN="Рачинская Мария Станиславовна":MA
 ILTO:openrussia@hse.ru
END:VEVENT
END:VCALENDAR
