BEGIN:VCALENDAR
VERSION:2.0
PRODID:-//talent.kruzhok.org//Event//
BEGIN:VEVENT
SUMMARY:Открываем Россию заново. Осень 2025 го
 да
DTSTART;VALUE=DATE-TIME:20250930T210000Z
DTEND;VALUE=DATE-TIME:20251130T205900Z
DTSTAMP;VALUE=DATE-TIME:20260425T212125Z
UID:20260426T002125-8775@talent.kruzhok.org
ORGANIZER;CN="Рачинская Мария Станиславовна":MA
 ILTO:openrussia@hse.ru
END:VEVENT
END:VCALENDAR
