BEGIN:VCALENDAR
VERSION:2.0
PRODID:-//talent.kruzhok.org//Event//
BEGIN:VEVENT
SUMMARY:Открытая лекция «Полезные игры»
DTSTART;VALUE=DATE-TIME:20250527T130000Z
DTEND;VALUE=DATE-TIME:20250527T150000Z
DTSTAMP;VALUE=DATE-TIME:20260419T154029Z
UID:20260419T184029-8722@talent.kruzhok.org
ORGANIZER;CN="Прудковская Ольга Марковна":MAILTO:p
 rudkovskaya@kruzhok.org
END:VEVENT
END:VCALENDAR
