BEGIN:VCALENDAR
VERSION:2.0
PRODID:-//talent.kruzhok.org//Event//
BEGIN:VEVENT
SUMMARY:Конкурсный отбор заявок на проведен
 ие профилей НТО в 2025/2026 учебном году
DTSTART;VALUE=DATE-TIME:20250519T091900Z
DTEND;VALUE=DATE-TIME:20250616T165500Z
DTSTAMP;VALUE=DATE-TIME:20260425T212122Z
UID:20260426T002122-8688@talent.kruzhok.org
END:VEVENT
END:VCALENDAR
