BEGIN:VCALENDAR
VERSION:2.0
PRODID:-//talent.kruzhok.org//Event//
BEGIN:VEVENT
SUMMARY:Олимпиада DLS 2025. Финальный тур
DTSTART;VALUE=DATE-TIME:20250429T080000Z
DTEND;VALUE=DATE-TIME:20250429T140000Z
DTSTAMP;VALUE=DATE-TIME:20260425T212125Z
UID:20260426T002125-8665@talent.kruzhok.org
ORGANIZER;CN="Яровиков Юрий Николаевич":MAILTO:dlphy
 stech@gmail.com
END:VEVENT
END:VCALENDAR
