BEGIN:VCALENDAR
VERSION:2.0
PRODID:-//talent.kruzhok.org//Event//
BEGIN:VEVENT
SUMMARY:Обратная связь по проведению Урока 
 НТО в апреле 2025 г.
DTSTART;VALUE=DATE-TIME:20250407T210000Z
DTSTAMP;VALUE=DATE-TIME:20260420T031943Z
UID:20260420T061943-8588@talent.kruzhok.org
END:VEVENT
END:VCALENDAR
