BEGIN:VCALENDAR
VERSION:2.0
PRODID:-//talent.kruzhok.org//Event//
BEGIN:VEVENT
SUMMARY:Фестиваль Кружкового движения  НТИ
DTSTART;VALUE=DATE-TIME:20250901T142000Z
DTEND;VALUE=DATE-TIME:20250930T205900Z
DTSTAMP;VALUE=DATE-TIME:20260425T212127Z
UID:20260426T002127-8498@talent.kruzhok.org
ORGANIZER;CN="Солдатова Ирина Анатольевна":MAILTO
 :iasoldatova@sfedu.ru
END:VEVENT
END:VCALENDAR
