BEGIN:VCALENDAR
VERSION:2.0
PRODID:-//talent.kruzhok.org//Event//
BEGIN:VEVENT
SUMMARY:Открываем Россию заново. Сезон 2025 го
 да
DTSTART;VALUE=DATE-TIME:20250112T210000Z
DTEND;VALUE=DATE-TIME:20250221T205900Z
DTSTAMP;VALUE=DATE-TIME:20260422T102029Z
UID:20260422T132029-8237@talent.kruzhok.org
ORGANIZER;CN="Рачинская Мария Станиславовна":MA
 ILTO:openrussia@hse.ru
END:VEVENT
END:VCALENDAR
