BEGIN:VCALENDAR
VERSION:2.0
PRODID:-//talent.kruzhok.org//Event//
BEGIN:VEVENT
SUMMARY:Предварительная регистрация на НТО 
 — 2025/2026
DTSTART;VALUE=DATE-TIME:20241201T090000Z
DTEND;VALUE=DATE-TIME:20250827T085000Z
DTSTAMP;VALUE=DATE-TIME:20260420T131912Z
UID:20260420T161912-8131@talent.kruzhok.org
END:VEVENT
END:VCALENDAR
