BEGIN:VCALENDAR
VERSION:2.0
PRODID:-//talent.kruzhok.org//Event//
BEGIN:VEVENT
SUMMARY:Сибирская этника: текстильный дизай
 н. Миф города
DTSTART;VALUE=DATE-TIME:20241117T210000Z
DTEND;VALUE=DATE-TIME:20241201T210000Z
DTSTAMP;VALUE=DATE-TIME:20260422T043625Z
UID:20260422T073625-7142@talent.kruzhok.org
ORGANIZER;CN="Рачинская Мария Станиславовна":MA
 ILTO:openrussia@hse.ru
END:VEVENT
END:VCALENDAR
