BEGIN:VCALENDAR
VERSION:2.0
PRODID:-//talent.kruzhok.org//Event//
BEGIN:VEVENT
SUMMARY:Открываем Россию заново — осень 2024 
 года
DTSTART;VALUE=DATE-TIME:20241021T141400Z
DTEND;VALUE=DATE-TIME:20241210T205900Z
DTSTAMP;VALUE=DATE-TIME:20260423T050249Z
UID:20260423T080249-7093@talent.kruzhok.org
ORGANIZER;CN="Рачинская Мария Станиславовна":MA
 ILTO:openrussia@hse.ru
END:VEVENT
END:VCALENDAR
