BEGIN:VCALENDAR
VERSION:2.0
PRODID:-//talent.kruzhok.org//Event//
BEGIN:VEVENT
SUMMARY:AI-ARROW Хакатон по искусственному инте
 ллекту «Подземелья и Драконы» | ТРЕК №1 | 
 до 14 лет
DTSTART;VALUE=DATE-TIME:20240805T090000Z
DTEND;VALUE=DATE-TIME:20240816T210000Z
DTSTAMP;VALUE=DATE-TIME:20260423T104822Z
UID:20260423T134822-7090@talent.kruzhok.org
ORGANIZER;CN="Андриясова Яна":MAILTO:info@kruzhok.org
END:VEVENT
END:VCALENDAR
