BEGIN:VCALENDAR
VERSION:2.0
PRODID:-//talent.kruzhok.org//Event//
BEGIN:VEVENT
SUMMARY:Арктическая технологическая экспед
 иция по побережью моря Лаптевых
DTSTART;VALUE=DATE-TIME:20240714T210000Z
DTEND;VALUE=DATE-TIME:20240730T205900Z
DTSTAMP;VALUE=DATE-TIME:20260423T173100Z
UID:20260423T203100-6910@talent.kruzhok.org
ORGANIZER;CN="Рачинская Мария Станиславовна":MA
 ILTO:openrussia@hse.ru
END:VEVENT
END:VCALENDAR
