BEGIN:VCALENDAR
VERSION:2.0
PRODID:-//talent.kruzhok.org//Event//
BEGIN:VEVENT
SUMMARY:Экспедиция "Ладожские шхеры: остров
 ная кругосветка"
DTSTART;VALUE=DATE-TIME:20240814T210000Z
DTEND;VALUE=DATE-TIME:20240829T205900Z
DTSTAMP;VALUE=DATE-TIME:20260422T090358Z
UID:20260422T120358-6846@talent.kruzhok.org
ORGANIZER;CN="Галахова Оксана Борисовна":MAILTO:bio
 challenge2100@gmail.com
END:VEVENT
END:VCALENDAR
