BEGIN:VCALENDAR
VERSION:2.0
PRODID:-//talent.kruzhok.org//Event//
BEGIN:VEVENT
SUMMARY:Мастер класс Знакомство с проектом 
 Национальной киберфизической платформы
  «Берлога»
DTSTART;VALUE=DATE-TIME:20231225T073000Z
DTEND;VALUE=DATE-TIME:20231228T123000Z
DTSTAMP;VALUE=DATE-TIME:20260425T212122Z
UID:20260426T002122-6465@talent.kruzhok.org
ORGANIZER;CN="Фомичева Наталья Александровна":
 MAILTO:fmschool72@mail.ru
END:VEVENT
END:VCALENDAR
