BEGIN:VCALENDAR
VERSION:2.0
PRODID:-//talent.kruzhok.org//Event//
BEGIN:VEVENT
SUMMARY:Квиз История развития open source 2.0
DTSTART;VALUE=DATE-TIME:20230911T160000Z
DTEND;VALUE=DATE-TIME:20230911T163000Z
DTSTAMP;VALUE=DATE-TIME:20260420T184855Z
UID:20260420T214855-5378@talent.kruzhok.org
ORGANIZER;CN="Андриясова Яна":MAILTO:info@kruzhok.org
END:VEVENT
END:VCALENDAR
