BEGIN:VCALENDAR
VERSION:2.0
PRODID:-//talent.kruzhok.org//Event//
BEGIN:VEVENT
SUMMARY:Дорогами мистиков Башкирии
DTSTART;VALUE=DATE-TIME:20231001T210000Z
DTEND;VALUE=DATE-TIME:20231011T205900Z
DTSTAMP;VALUE=DATE-TIME:20260422T090334Z
UID:20260422T120334-4539@talent.kruzhok.org
ORGANIZER;CN="Рачинская Мария Станиславовна":MA
 ILTO:openrussia@hse.ru
END:VEVENT
END:VCALENDAR
