BEGIN:VCALENDAR
VERSION:2.0
PRODID:-//talent.kruzhok.org//Event//
BEGIN:VEVENT
SUMMARY:Храмы Русского Севера - облако в сет
 и
DTSTART;VALUE=DATE-TIME:20230804T210000Z
DTEND;VALUE=DATE-TIME:20230818T205900Z
DTSTAMP;VALUE=DATE-TIME:20260420T010630Z
UID:20260420T040630-4446@talent.kruzhok.org
ORGANIZER;CN="Рачинская Мария Станиславовна":MA
 ILTO:openrussia@hse.ru
END:VEVENT
END:VCALENDAR
