BEGIN:VCALENDAR
VERSION:2.0
PRODID:-//talent.kruzhok.org//Event//
BEGIN:VEVENT
SUMMARY:Программа стажировок "Код для всех"\,
  Утилита от Robbo
DTSTART;VALUE=DATE-TIME:20230504T210000Z
DTEND;VALUE=DATE-TIME:20230620T205500Z
DTSTAMP;VALUE=DATE-TIME:20260419T173204Z
UID:20260419T203204-4426@talent.kruzhok.org
ORGANIZER;CN="Андриясова Яна":MAILTO:info@kruzhok.org
END:VEVENT
END:VCALENDAR
