BEGIN:VCALENDAR
VERSION:2.0
PRODID:-//talent.kruzhok.org//Event//
BEGIN:VEVENT
SUMMARY:Всероссийский конкурс проектных и и
 сследовательских работ учащихся «Гориз
 онты открытий - 2023» (дистанционный тур)
DTSTART;VALUE=DATE-TIME:20230131T210000Z
DTEND;VALUE=DATE-TIME:20230410T205959Z
DTSTAMP;VALUE=DATE-TIME:20260421T171500Z
UID:20260421T201500-4008@talent.kruzhok.org
END:VEVENT
END:VCALENDAR
