BEGIN:VCALENDAR
VERSION:2.0
PRODID:-//talent.kruzhok.org//Event//
BEGIN:VEVENT
SUMMARY:Отборочная анкета на направление Эл
 ектроника ПШ на Камчатке
DTSTART;VALUE=DATE-TIME:20230308T210500Z
DTEND;VALUE=DATE-TIME:20230529T205500Z
DTSTAMP;VALUE=DATE-TIME:20260422T101900Z
UID:20260422T131900-3988@talent.kruzhok.org
ORGANIZER;CN="Юхин Андрей Александрович":MAILTO:krc
 tc@mail.ru
END:VEVENT
END:VCALENDAR
