BEGIN:VCALENDAR
VERSION:2.0
PRODID:-//talent.kruzhok.org//Event//
BEGIN:VEVENT
SUMMARY:Экспедиция «Школа Мечты» (Москва/Са
 нкт-Петербург)
DTSTART;VALUE=DATE-TIME:20230930T210000Z
DTEND;VALUE=DATE-TIME:20231011T210000Z
DTSTAMP;VALUE=DATE-TIME:20260422T190253Z
UID:20260422T220253-3977@talent.kruzhok.org
ORGANIZER;CN="Рачинская Мария Станиславовна":MA
 ILTO:openrussia@hse.ru
END:VEVENT
END:VCALENDAR
