BEGIN:VCALENDAR
VERSION:2.0
PRODID:-//talent.kruzhok.org//Event//
BEGIN:VEVENT
SUMMARY:Конкурсный отбор участников на Всер
 оссийскую тематическую смену проекта «П
 рофильные техноотряды» на базе ВДЦ «Сме
 на» до 1 марта 2023 года
DTSTART;VALUE=DATE-TIME:20230206T210000Z
DTEND;VALUE=DATE-TIME:20230301T205500Z
DTSTAMP;VALUE=DATE-TIME:20260423T065454Z
UID:20260423T095454-3947@talent.kruzhok.org
ORGANIZER;CN="Кучкин Владислав Кириллович":MAILTO
 :pto@kruzhok.org
END:VEVENT
END:VCALENDAR
