BEGIN:VCALENDAR
VERSION:2.0
PRODID:-//talent.kruzhok.org//Event//
BEGIN:VEVENT
SUMMARY:Конкурсный отбор на участие во Всер
 оссийской тематической смене проекта "П
 рофильные техноотряды" на базе ВДЦ "Смен
 а" (21.10 по 03.11.2022)
DTSTART;VALUE=DATE-TIME:20220831T210000Z
DTEND;VALUE=DATE-TIME:20220930T210000Z
DTSTAMP;VALUE=DATE-TIME:20260421T084520Z
UID:20260421T114520-3683@talent.kruzhok.org
END:VEVENT
END:VCALENDAR
