BEGIN:VCALENDAR
VERSION:2.0
PRODID:-//talent.kruzhok.org//Event//
BEGIN:VEVENT
SUMMARY:Конкурсный отбор на участие в Регио
 нальной тематической смене проекта "Про
 фильные техноотряды" в Сахалинской обла
 сти (08-21.09.2022)
DTSTART;VALUE=DATE-TIME:20220810T210000Z
DTEND;VALUE=DATE-TIME:20220905T070000Z
DTSTAMP;VALUE=DATE-TIME:20260421T090358Z
UID:20260421T120358-3277@talent.kruzhok.org
ORGANIZER;CN="Кучкин Владислав Кириллович":MAILTO
 :pto@kruzhok.org
END:VEVENT
END:VCALENDAR
