BEGIN:VCALENDAR
VERSION:2.0
PRODID:-//talent.kruzhok.org//Event//
BEGIN:VEVENT
SUMMARY:Международная проектная школа / Interna
 tional project school
DTSTART;VALUE=DATE-TIME:20220902T210000Z
DTEND;VALUE=DATE-TIME:20220917T205500Z
DTSTAMP;VALUE=DATE-TIME:20260423T182333Z
UID:20260423T212333-3029@talent.kruzhok.org
END:VEVENT
END:VCALENDAR
