BEGIN:VCALENDAR
VERSION:2.0
PRODID:-//talent.kruzhok.org//Event//
BEGIN:VEVENT
SUMMARY:Набор участников в Ассоциацию участ
 ников технологических кружков
DTSTART;VALUE=DATE-TIME:20220331T210000Z
DTEND;VALUE=DATE-TIME:20250429T210000Z
DTSTAMP;VALUE=DATE-TIME:20260425T225051Z
UID:20260426T015051-2568@talent.kruzhok.org
ORGANIZER;CN="Андриясова Яна":MAILTO:info@kruzhok.org
END:VEVENT
END:VCALENDAR
