BEGIN:VCALENDAR
VERSION:2.0
PRODID:-//talent.kruzhok.org//Event//
BEGIN:VEVENT
SUMMARY:Проектная школа NeuroCamp: участники из 
 Свердловской области
DTSTART;VALUE=DATE-TIME:20220611T060000Z
DTEND;VALUE=DATE-TIME:20220624T060000Z
DTSTAMP;VALUE=DATE-TIME:20260419T183742Z
UID:20260419T213742-2557@talent.kruzhok.org
END:VEVENT
END:VCALENDAR
