BEGIN:VCALENDAR
VERSION:2.0
PRODID:-//talent.kruzhok.org//Event//
BEGIN:VEVENT
SUMMARY:Деловая программа Регионального ха
 катона по технологиям искусственного ин
 теллекта «IZH.IT»
DTSTART;VALUE=DATE-TIME:20210818T053000Z
DTEND;VALUE=DATE-TIME:20210818T121500Z
DTSTAMP;VALUE=DATE-TIME:20260423T065908Z
UID:20260423T095908-1927@talent.kruzhok.org
END:VEVENT
END:VCALENDAR
