BEGIN:VCALENDAR
VERSION:2.0
PRODID:-//talent.kruzhok.org//Event//
BEGIN:VEVENT
SUMMARY:Серия онлайн-семинаров Кентавр
DTSTART;VALUE=DATE-TIME:20210428T140000Z
DTSTAMP;VALUE=DATE-TIME:20260423T041622Z
UID:20260423T071622-1713@talent.kruzhok.org
END:VEVENT
END:VCALENDAR
