BEGIN:VCALENDAR
VERSION:2.0
PRODID:-//talent.kruzhok.org//Event//
BEGIN:VEVENT
SUMMARY:Глубинка 2.0. Заводоуковск
DTSTART;VALUE=DATE-TIME:20260914T071500Z
DTEND;VALUE=DATE-TIME:20260918T205900Z
DTSTAMP;VALUE=DATE-TIME:20260424T175933Z
UID:20260424T205933-11494@talent.kruzhok.org
ORGANIZER;CN="Рачинская Мария Станиславовна":MA
 ILTO:openrussia@hse.ru
END:VEVENT
END:VCALENDAR
