BEGIN:VCALENDAR
VERSION:2.0
PRODID:-//talent.kruzhok.org//Event//
BEGIN:VEVENT
SUMMARY:Окна Висима: глаза\, смотрящие сквоз
 ь время
DTSTART;VALUE=DATE-TIME:20260817T151500Z
DTEND;VALUE=DATE-TIME:20260827T205900Z
DTSTAMP;VALUE=DATE-TIME:20260425T014901Z
UID:20260425T044901-11491@talent.kruzhok.org
ORGANIZER;CN="Рачинская Мария Станиславовна":MA
 ILTO:openrussia@hse.ru
END:VEVENT
END:VCALENDAR
