BEGIN:VCALENDAR
VERSION:2.0
PRODID:-//talent.kruzhok.org//Event//
BEGIN:VEVENT
SUMMARY:Экспедиция «Владимирский треугольн
 ик»
DTSTART;VALUE=DATE-TIME:20260726T210000Z
DTEND;VALUE=DATE-TIME:20260808T205900Z
DTSTAMP;VALUE=DATE-TIME:20260425T020711Z
UID:20260425T050711-11467@talent.kruzhok.org
ORGANIZER;CN="Рачинская Мария Станиславовна":MA
 ILTO:openrussia@hse.ru
END:VEVENT
END:VCALENDAR
