BEGIN:VCALENDAR
VERSION:2.0
PRODID:-//talent.kruzhok.org//Event//
BEGIN:VEVENT
SUMMARY:Православная цивилизация: возвраща
 емся к истокам в Крыму
DTSTART;VALUE=DATE-TIME:20260717T100600Z
DTEND;VALUE=DATE-TIME:20260724T205900Z
DTSTAMP;VALUE=DATE-TIME:20260425T210641Z
UID:20260426T000641-11303@talent.kruzhok.org
ORGANIZER;CN="Рачинская Мария Станиславовна":MA
 ILTO:openrussia@hse.ru
END:VEVENT
END:VCALENDAR
