BEGIN:VCALENDAR
VERSION:2.0
PRODID:-//talent.kruzhok.org//Event//
BEGIN:VEVENT
SUMMARY:Паспорт профиля Студенческого трек
 а НТО
DTSTART;VALUE=DATE-TIME:20260310T130000Z
DTEND;VALUE=DATE-TIME:20260615T205900Z
DTSTAMP;VALUE=DATE-TIME:20260425T163029Z
UID:20260425T193029-10926@talent.kruzhok.org
END:VEVENT
END:VCALENDAR
