BEGIN:VCALENDAR
VERSION:2.0
PRODID:-//talent.kruzhok.org//Event//
BEGIN:VEVENT
SUMMARY:Всероссийская педагогическая конфе
 ренция
DTSTART;VALUE=DATE-TIME:20260425T060000Z
DTEND;VALUE=DATE-TIME:20260426T160000Z
DTSTAMP;VALUE=DATE-TIME:20260421T085949Z
UID:20260421T115949-10920@talent.kruzhok.org
ORGANIZER;CN="Прудковская Ольга Марковна":MAILTO:p
 rudkovskaya@kruzhok.org
END:VEVENT
END:VCALENDAR
