BEGIN:VCALENDAR
VERSION:2.0
PRODID:-//talent.kruzhok.org//Event//
BEGIN:VEVENT
SUMMARY:Паспорт профиля НТО для школьников 8
 −11 классов
DTSTART;VALUE=DATE-TIME:20260310T130000Z
DTEND;VALUE=DATE-TIME:20260615T205900Z
DTSTAMP;VALUE=DATE-TIME:20260425T170306Z
UID:20260425T200306-10602@talent.kruzhok.org
END:VEVENT
END:VCALENDAR
