BEGIN:VCALENDAR
VERSION:2.0
PRODID:-//talent.kruzhok.org//Event//
BEGIN:VEVENT
SUMMARY:Олимпиада Физтех по химии 2025/2026
DTSTART;VALUE=DATE-TIME:20260108T210000Z
DTEND;VALUE=DATE-TIME:20260331T205959Z
DTSTAMP;VALUE=DATE-TIME:20260425T170004Z
UID:20260425T200004-10274@talent.kruzhok.org
END:VEVENT
END:VCALENDAR
